BEGIN:VCALENDAR
VERSION:2.0
PRODID:spatie/icalendar-generator
DESCRIPTION:Events from AfroAtenAs
X-WR-CALDESC:Events from AfroAtenAs
REFRESH-INTERVAL;VALUE=DURATION:PT1440M
X-PUBLISHED-TTL:PT1440M
BEGIN:VTIMEZONE
TZID:Etc/GMT+0
BEGIN:STANDARD
DTSTART:20250615T000000Z
TZOFFSETFROM:+0000
TZOFFSETTO:+0000
END:STANDARD
END:VTIMEZONE
BEGIN:VTIMEZONE
TZID:UTC
BEGIN:STANDARD
DTSTART:20250724T102529Z
TZOFFSETFROM:+0000
TZOFFSETTO:+0000
END:STANDARD
END:VTIMEZONE
BEGIN:VEVENT
UID:23-2
DTSTAMP:20260420T102529Z
SUMMARY:Por Una Sonrisa
LOCATION:
ORGANIZER;CN=Rogelio Benavides:MAILTO:afroatenasmatanzas@gmail.com
RRULE:FREQ=MONTHLY;BYDAY=2TH;UNTIL=20830630T000000Z
DTSTART;TZID=Etc/GMT+0;VALUE=DATE:20260312
DTEND;TZID=Etc/GMT+0;VALUE=DATE:20260313
X-ALT-DESC;FMTTYPE=TEXT/HTML:Espacio de atención a niños\, niñas adolesc
 entes y jóvenes con discapacidad intelectual.
CATEGORIES:Niños
URL;VALUE=URI:https://afroatenas.org/index.php/mc-events/por-una-sonrisa/?m
 c_id=23
END:VEVENT
END:VCALENDAR