BEGIN:VCALENDAR
VERSION:2.0
PRODID:spatie/icalendar-generator
DESCRIPTION:Events from AfroAtenAs
X-WR-CALDESC:Events from AfroAtenAs
REFRESH-INTERVAL;VALUE=DURATION:PT1440M
X-PUBLISHED-TTL:PT1440M
BEGIN:VTIMEZONE
TZID:Etc/GMT+0
BEGIN:STANDARD
DTSTART:20250428T000000Z
TZOFFSETFROM:+0000
TZOFFSETTO:+0000
END:STANDARD
END:VTIMEZONE
BEGIN:VTIMEZONE
TZID:UTC
BEGIN:STANDARD
DTSTART:20250725T130509Z
TZOFFSETFROM:+0000
TZOFFSETTO:+0000
END:STANDARD
END:VTIMEZONE
BEGIN:VEVENT
UID:7927-13
DTSTAMP:20260421T130509Z
SUMMARY:Espacio Algo Diferente
LOCATION:
ORGANIZER;CN=Rogelio Benavides:MAILTO:afroatenasmatanzas@gmail.com
RRULE:FREQ=MONTHLY;BYDAY=4FR;UNTIL=20860630T000000Z
DTSTART;TZID=Etc/GMT+0;VALUE=DATE:20260123
DTEND;TZID=Etc/GMT+0;VALUE=DATE:20260124
X-ALT-DESC;FMTTYPE=TEXT/HTML:Se desarrollan actividades culturales en diver
 sos sitios de la ciudad como parte de la promoción de acciones de impacto
  comunitario a favor de todos los grupos etareos.
CATEGORIES:General
URL;VALUE=URI:https://afroatenas.org/index.php/mc-events/espacio-algo-difer
 ente/?mc_id=7927
END:VEVENT
END:VCALENDAR